BEGIN:VCALENDAR
VERSION:2.0
PRODID:-//SVP Bezirk Laufenburg //NONSGML Events //EN
CALSCALE:GREGORIAN
X-WR-CALNAME:SVP Bezirk Laufenburg
BEGIN:VEVENT
CREATED:20251103T064342Z
UID:1921
DTEND:20261028T170000
DTSTART:20261028T160000
DTSTAMP:20260425T015614Z
LOCATION:
DESCRIPTION:
SUMMARY:Geschäftsleitung: Sitzung
ORGANIZER:
URL;VALUE=URI:https://www.svp-bezirk-laufenburg.ch/termine/geschaeftsleitung-sitzung-2/
TRANSP:OPAQUE
END:VEVENT
END:VCALENDAR
