BEGIN:VCALENDAR
VERSION:2.0
PRODID:-//SVP Bezirk Laufenburg //NONSGML Events //EN
CALSCALE:GREGORIAN
X-WR-CALNAME:SVP Bezirk Laufenburg
BEGIN:VEVENT
CREATED:20251103T063953Z
UID:1925
DTEND:20261210T000000
DTSTART:20261210T000000
DTSTAMP:20260425T015134Z
LOCATION:
DESCRIPTION:Schlusssitzung des Kantonalvorstandes
SUMMARY:Kantonalvorstand
ORGANIZER:
URL;VALUE=URI:https://www.svp-bezirk-laufenburg.ch/termine/kantonalvorstand-2/
TRANSP:OPAQUE
END:VEVENT
END:VCALENDAR
