BEGIN:VCALENDAR
VERSION:2.0
PRODID:-//SVP Bezirk Laufenburg //NONSGML Events //EN
CALSCALE:GREGORIAN
X-WR-CALNAME:SVP Bezirk Laufenburg
BEGIN:VEVENT
CREATED:20251103T063813Z
UID:1927
DTEND:20270120T000000
DTSTART:20270120T000000
DTSTAMP:20260425T015455Z
LOCATION:
DESCRIPTION:
SUMMARY:Kantonalparteitag
ORGANIZER:
URL;VALUE=URI:https://www.svp-bezirk-laufenburg.ch/termine/kantonalparteitag-10/
TRANSP:OPAQUE
END:VEVENT
END:VCALENDAR
