BEGIN:VCALENDAR
VERSION:2.0
PRODID:-//SVP Bezirk Laufenburg //NONSGML Events //EN
CALSCALE:GREGORIAN
X-WR-CALNAME:SVP Bezirk Laufenburg
BEGIN:VEVENT
CREATED:20251103T063649Z
UID:1929
DTEND:20260826T210000
DTSTART:20260826T200000
DTSTAMP:20260425T015236Z
LOCATION:
DESCRIPTION:
SUMMARY:Kantonalparteitag
ORGANIZER:
URL;VALUE=URI:https://www.svp-bezirk-laufenburg.ch/termine/kantonalparteitag-12/
TRANSP:OPAQUE
END:VEVENT
END:VCALENDAR
