BEGIN:VCALENDAR
VERSION:2.0
PRODID:-//SVP Bezirk Laufenburg //NONSGML Events //EN
CALSCALE:GREGORIAN
X-WR-CALNAME:SVP Bezirk Laufenburg
BEGIN:VEVENT
CREATED:20251103T064714Z
UID:2023
DTEND:20261222T000000
DTSTART:20261222T000000
DTSTAMP:20260425T015241Z
LOCATION:Gasthof Schützen\, Aarau
DESCRIPTION:
SUMMARY:Sessionsrückblick mit Politapéro
ORGANIZER:
URL;VALUE=URI:https://www.svp-bezirk-laufenburg.ch/termine/sessionsrueckblick-mit-politapero/
TRANSP:OPAQUE
END:VEVENT
END:VCALENDAR
