BEGIN:VCALENDAR
VERSION:2.0
PRODID:-//SVP Bezirk Laufenburg //NONSGML Events //EN
CALSCALE:GREGORIAN
X-WR-CALNAME:SVP Bezirk Laufenburg
BEGIN:VEVENT
CREATED:20260226T060144Z
UID:2069
DTEND:20260624T213000
DTSTART:20260624T200000
DTSTAMP:20260425T030341Z
LOCATION:Rest. Bären Bözen
DESCRIPTION:
SUMMARY:Sessionsrückblick
ORGANIZER:SVP Bezirk Laufenburg
URL;VALUE=URI:https://www.svp-bezirk-laufenburg.ch/termine/sessionsrueckblick/
TRANSP:OPAQUE
END:VEVENT
END:VCALENDAR
