BEGIN:VCALENDAR
VERSION:2.0
PRODID:-//SVP Bezirk Laufenburg //NONSGML Events //EN
CALSCALE:GREGORIAN
X-WR-CALNAME:SVP Bezirk Laufenburg
BEGIN:VEVENT
CREATED:20260325T082405Z
UID:2078
DTEND:20260911T200000
DTSTART:20260911T190000
DTSTAMP:20260425T014742Z
LOCATION:Gemeindesaal\, Hauptstrasse 42\, 5737 Menziken
DESCRIPTION:Die SVP Menziken lädt ein zum Informationsanlass zu den EU-Verträgen
SUMMARY:EU-Unterwerfungsvertrag: Inforamtionsanlass SVP Menziken und Reinach
ORGANIZER:
URL;VALUE=URI:https://www.svp-bezirk-laufenburg.ch/termine/eu-unterwerfungsvertrag-inforamtionsanlass/
TRANSP:OPAQUE
END:VEVENT
END:VCALENDAR
